BEGIN:VCALENDAR
VERSION:2.0
PRODID:-//Tennis Club - ECPv6.15.10//NONSGML v1.0//EN
CALSCALE:GREGORIAN
METHOD:PUBLISH
X-ORIGINAL-URL:https://lyndwoodtennis.com
X-WR-CALDESC:Events for Tennis Club
REFRESH-INTERVAL;VALUE=DURATION:PT1H
X-Robots-Tag:noindex
X-PUBLISHED-TTL:PT1H
BEGIN:VTIMEZONE
TZID:America/Toronto
BEGIN:DAYLIGHT
TZOFFSETFROM:-0500
TZOFFSETTO:-0400
TZNAME:EDT
DTSTART:20190310T070000
END:DAYLIGHT
BEGIN:STANDARD
TZOFFSETFROM:-0400
TZOFFSETTO:-0500
TZNAME:EST
DTSTART:20191103T060000
END:STANDARD
BEGIN:DAYLIGHT
TZOFFSETFROM:-0500
TZOFFSETTO:-0400
TZNAME:EDT
DTSTART:20200308T070000
END:DAYLIGHT
BEGIN:STANDARD
TZOFFSETFROM:-0400
TZOFFSETTO:-0500
TZNAME:EST
DTSTART:20201101T060000
END:STANDARD
BEGIN:DAYLIGHT
TZOFFSETFROM:-0500
TZOFFSETTO:-0400
TZNAME:EDT
DTSTART:20210314T070000
END:DAYLIGHT
BEGIN:STANDARD
TZOFFSETFROM:-0400
TZOFFSETTO:-0500
TZNAME:EST
DTSTART:20211107T060000
END:STANDARD
BEGIN:DAYLIGHT
TZOFFSETFROM:-0500
TZOFFSETTO:-0400
TZNAME:EDT
DTSTART:20220313T070000
END:DAYLIGHT
BEGIN:STANDARD
TZOFFSETFROM:-0400
TZOFFSETTO:-0500
TZNAME:EST
DTSTART:20221106T060000
END:STANDARD
END:VTIMEZONE
BEGIN:VEVENT
DTSTART;VALUE=DATE:20210420
DTEND;VALUE=DATE:20211031
DTSTAMP:20260423T103331
CREATED:20201104T013035Z
LAST-MODIFIED:20201104T013128Z
UID:3257-1618876800-1635638399@lyndwoodtennis.com
SUMMARY:Knockout
DESCRIPTION:Also known as a Tournament Bracket or Cup\, a knockout tournament is divided into successive rounds.\nThe winner of each match progresses to the next round.\nBoth single and double elimination are supported.
URL:https://lyndwoodtennis.com/event/knockout/
LOCATION:Ontario
CATEGORIES:Lyndwood Tournaments
END:VEVENT
BEGIN:VEVENT
DTSTART;VALUE=DATE:20210420
DTEND;VALUE=DATE:20211031
DTSTAMP:20260423T103331
CREATED:20201104T012602Z
LAST-MODIFIED:20201104T013109Z
UID:3253-1618876800-1635638399@lyndwoodtennis.com
SUMMARY:Wednesday Night Round Robin
DESCRIPTION:Every Wednesday we are hoping to see you at the court \nA round-robin tournament (or all-play-all tournament) is a competition in which each participant meets\nall others in turn over the period of a given schedule.
URL:https://lyndwoodtennis.com/event/wednesday-night-round-robin/
LOCATION:Ontario
CATEGORIES:Lyndwood Tournaments
END:VEVENT
BEGIN:VEVENT
DTSTART;TZID=America/Toronto:20210403T110000
DTEND;TZID=America/Toronto:20210403T130000
DTSTAMP:20260423T103331
CREATED:20210328T182954Z
LAST-MODIFIED:20210328T183258Z
UID:3495-1617447600-1617454800@lyndwoodtennis.com
SUMMARY:2021 Open house
DESCRIPTION:We will have an open house on April 3 (weather permitting) between 11AM and 1PM for those who want to come and pick up the tag\, meet us and have a tennis assessment/clinic followed by doubles play with our coach\, Luis.
URL:https://lyndwoodtennis.com/event/2021-open-house/
LOCATION:Lyndwood Tennis Club\, HCFF+7P Mississauga\, Ontario\, Mississauga\, Ontario\, L5E 3K2\, Canada
CATEGORIES:Club Event
END:VEVENT
BEGIN:VEVENT
DTSTART;TZID=America/Toronto:20210227T110000
DTEND;TZID=America/Toronto:20210227T120000
DTSTAMP:20260423T103331
CREATED:20210204T003829Z
LAST-MODIFIED:20210302T150454Z
UID:3385-1614423600-1614427200@lyndwoodtennis.com
SUMMARY:AGM 2021
DESCRIPTION:Please save in your calendar Saturday\, Feb 27@11AM for the 2021 AGM for Lyndwood Tennis Club via ZOOM. Agenda to follow. \nJoin Zoom Meeting \nhttps://us05web.zoom.us/j/82196574491?pwd=R2MyNEw3YnVnNjJQaTFDK2l3R3A1dz09 \nMeeting ID: 821 9657 4491 \nPasscode: shared through email \n2021 AGM agenda \n2021 AGM Proxy \n2021 AGM meeting minutes
URL:https://lyndwoodtennis.com/event/3385/
LOCATION:Ontario
CATEGORIES:Annual General Meeting
END:VEVENT
BEGIN:VEVENT
DTSTART;TZID=America/Toronto:20201103T080000
DTEND;TZID=America/Toronto:20201103T170000
DTSTAMP:20260423T103331
CREATED:20201104T013400Z
LAST-MODIFIED:20201104T013400Z
UID:3261-1604390400-1604422800@lyndwoodtennis.com
SUMMARY:Ladder
DESCRIPTION:A ladder tournament is a form of tournament in which participants are listed as if on the rungs of a ladder.\nEach participant can challenge others.\nBy winning matches\, the participants score increases.
URL:https://lyndwoodtennis.com/event/ladder/
LOCATION:Ontario
CATEGORIES:Lyndwood Tournaments
ATTACH;FMTTYPE=image/jpeg:https://lyndwoodtennis.com/wp-content/uploads/2020/11/pexels-mochammad-algi-4436470-scaled.jpg
END:VEVENT
END:VCALENDAR